BEGIN:VCALENDAR
VERSION:2.0
PRODID:-//AUSTRALIAN BREATHWORK ASSOCIATION - ECPv6.0.13.1//NONSGML v1.0//EN
CALSCALE:GREGORIAN
METHOD:PUBLISH
X-WR-CALNAME:AUSTRALIAN BREATHWORK ASSOCIATION
X-ORIGINAL-URL:https://australianbreathworkassociation.org.au
X-WR-CALDESC:Events for AUSTRALIAN BREATHWORK ASSOCIATION
REFRESH-INTERVAL;VALUE=DURATION:PT1H
X-Robots-Tag:noindex
X-PUBLISHED-TTL:PT1H
BEGIN:VTIMEZONE
TZID:UTC
BEGIN:STANDARD
TZOFFSETFROM:+0000
TZOFFSETTO:+0000
TZNAME:UTC
DTSTART:20240101T000000
END:STANDARD
END:VTIMEZONE
BEGIN:VEVENT
DTSTART;VALUE=DATE:20241108
DTEND;VALUE=DATE:20241111
DTSTAMP:20260420T002006
CREATED:20240605T150513Z
LAST-MODIFIED:20240630T101559Z
UID:3012-1731024000-1731283199@australianbreathworkassociation.org.au
SUMMARY:Breathwork Australia Conference 2024
DESCRIPTION:We are excited to announce the upcoming Breathework Australia Conference 2024 (BAC 24) to be held in Devonport\, Lutruwita (Tasmania). Join us for 3 days of teachings\, Breathwork sessions and other activities to ‘Discover\, Connect and Rejuvenate’.\nBreathwork Australia Conference 2024\nExploring Breathwork in trauma recovery\nSupported by the Australian Breathwork Association (ABA) and the Rivendell Trauma Recovery Centre at Tasmania’s Northwest Coast Private Hospital\, the Breathwork Australia Conference 2024 will bring together international Breathwork facilitators and professionals from the fields of mental health\, trauma and non-ordinary state practices\, to explore the power of Conscious Connected Breathwork to aid trauma recovery. The intention of the conference is to share and teach tools for health professionals and Breathwork practitioners experience\, discover and help others. \nConference highlights:\n● Explore professional and personal development opportunities. \n● Enjoy 3 days to choose from a variety of teachings Breathwork sessions and activities\, all while breathing the cleanest air in the world. \n● Interact in panel discussion with professionals and patients at the Rivendell Trauma Recovery Centre at Tasmania’s North West Coast Private Hospital. \n● A chance to meet and create an impactful network of health professionals. \n● Come early or stay on for pre and post conference offerings – masterclasses\, workshops and wilderness tours. \n● Experience the world famous\, high-quality\, nurturing Tasmanian food\, breathing the cleanest air in the world. \nMore information on the schedule and Breathwork offerings throughout the conference to come. \nBOOK YOUR EARLY BIRD TICKET NOW \nLimited tickets available  \nConference speakers:\nKeynote speakers and presenters include facilitators and presenters from a range of modalities\, offering an opportunity to share and learn with experts in Breathwork\, trauma\, psychology\, psychiatry\, neuroscience and more. Below are the CONFIRMED speakers with more exciting announcements to come. \n \nMORE EXCITING UPDATES TO COME\n\n\n\n\nAccommodation offers\n\n\nTickets\n\n\n\n\n\nConference held at Paranaple Convention Centre Davenport\, Tasmania\n4 Star accommodation at the Novotel Devonport:\n\nMinutes’ walk from the venue \nDiscounted rates available for delegates \n \n\nFull admission $400\n\nEarly Bird offer $300 until Sunday 4 August 2024 – limited tickets\nBecome a member of the Australian Breathwork Association and receive 10% off the full ticket price.\nA 10% discount (off the full price) is also offered to Tasmanian participants.\n\n\n\n\n\n\n\nIncluded in your Ticket:\n\nMorning tea\, lunch\, afternoon tea catering\, and Friday welcome dinner at a local restaurant\n3 days conference content\nLectures by leading breathwork trainers and health professionals from the field of trauma\nParticipate in guided breathwork sessions\nDiscount for pre and post conference master classes\, workshops and tours\n\nBOOK YOUR EARLY BIRD TICKET NOW \nLimited number early bird tickets. Ending 4/8/24 \n  \nPre Post conference offerings:\nSomatic Workshop With Shaah \nWild Wellness Day Retreat  \nCradle Mountain Canyoning  \nWhat is ‘Breathwork’?\nThe term ‘breathwork’ encompasses many breathing practices. The Australian Breathwork Association recognises the practice of breathwork as conscious cyclical breathing where the inhale meets the exhale without any pauses for a lengthened period. This style of breathwork is recognised by peak bodies for breathwork internationally as Conscious Connected Breathwork (CCB) or ‘Breathwork’.   \nWithin the field of CCB\, there are various schools including but not limited to; Rebirthing\, Holotropic Breathwork\, Integrative Breathwork\, Clarity Breathwork\, Shamanic Breathwork and Transformational Breath. \nThe known client benefits of CCB include: \n\nRelease of stress\, anxiety and depression.\nHelp in shifting unhelpful beliefs and cultivate healthy relationships with their emotions.\nAiding trauma recovery such as birth\, loss\, death and suffering.\nSupporting confident\, conscious decision-making.\nAssisting in the process of navigating change towards embracing their full potential.\nImproveing their mind-body connection and the ability to re-program behaviours.\n\nAustralia is recognised as a world leader in setting and maintaining professional standards\, ethics\, and practices with Conscious Connected Breathwork for both training and practice. \nMore information on Conscious Connected Breathwork can be found here: \n\nInternational Breathwork Foundation\nGlobal Professional Breathwork Alliance\nAustralian Breathwork Association\n\n  \nPlease Note:\n*** While breathwork can be a incredible beneficial practice for many individuals\, it is important to recognize that certain health conditions may pose risks during these activities. If you have been diagnosed with severe asthma\, heart disease\, or epilepsy please be aware that you may not be able to participate in all breathwork sessions.\nPlease consult with your healthcare provider before participating in any breathwork sessions that involve intensive breathing exercises. \n  \nContact Us\nIf you have any concern please feel free to reach out  via email:  alisa.breathingtherapies.com.au
URL:https://australianbreathworkassociation.org.au/event/annual-breathwork-conference-2024/
ATTACH;FMTTYPE=image/jpeg:https://australianbreathworkassociation.org.au/wp-content/uploads/2024/06/Real-11-2ac1cca1-f8f3-4558-9062-ea0fab4bf3a7.jpg
END:VEVENT
END:VCALENDAR